BEGIN:VCALENDAR
VERSION:2.0
PRODID:-//Cie Cielo - ECPv6.15.20//NONSGML v1.0//EN
CALSCALE:GREGORIAN
METHOD:PUBLISH
X-ORIGINAL-URL:https://cielo.fr
X-WR-CALDESC:Évènements pour Cie Cielo
REFRESH-INTERVAL;VALUE=DURATION:PT1H
X-Robots-Tag:noindex
X-PUBLISHED-TTL:PT1H
BEGIN:VTIMEZONE
TZID:Europe/Paris
BEGIN:DAYLIGHT
TZOFFSETFROM:+0100
TZOFFSETTO:+0200
TZNAME:CEST
DTSTART:20250330T010000
END:DAYLIGHT
BEGIN:STANDARD
TZOFFSETFROM:+0200
TZOFFSETTO:+0100
TZNAME:CET
DTSTART:20251026T010000
END:STANDARD
BEGIN:DAYLIGHT
TZOFFSETFROM:+0100
TZOFFSETTO:+0200
TZNAME:CEST
DTSTART:20260329T010000
END:DAYLIGHT
BEGIN:STANDARD
TZOFFSETFROM:+0200
TZOFFSETTO:+0100
TZNAME:CET
DTSTART:20261025T010000
END:STANDARD
BEGIN:DAYLIGHT
TZOFFSETFROM:+0100
TZOFFSETTO:+0200
TZNAME:CEST
DTSTART:20270328T010000
END:DAYLIGHT
BEGIN:STANDARD
TZOFFSETFROM:+0200
TZOFFSETTO:+0100
TZNAME:CET
DTSTART:20271031T010000
END:STANDARD
END:VTIMEZONE
BEGIN:VEVENT
DTSTART;TZID=Europe/Paris:20260421T143000
DTEND;TZID=Europe/Paris:20260421T170000
DTSTAMP:20260421T153600
CREATED:20260224T094544Z
LAST-MODIFIED:20260224T094544Z
UID:227471-1776781800-1776790800@cielo.fr
SUMMARY:Atelier créatif "Mandalas nature" - La ferme du Barcarès (66)
DESCRIPTION:Adaptés aux différentes tranches d’âges\, ces ateliers permettent à chacun de s’exprimer et développer sa créativité.\nTransformer la matière\, découvrir de nouvelles techniques\, s’inspirer de son environnement ou voyager dans l’imaginaire… Avec l’accompagnement de nos artistes\, chacun sera heureux de voir ses créations prendre forme et\, à l’issue de l’atelier\, les emporter avec lui.
URL:https://cielo.fr/event/atelier-creatif-mandalas-nature-la-ferme-du-barcares-66/
LOCATION:La ferme du Barcarès
CATEGORIES:Atelier
ATTACH;FMTTYPE=image/jpeg:https://cielo.fr/wp-content/uploads/2026/02/agenda_mandalas.jpg
END:VEVENT
BEGIN:VEVENT
DTSTART;TZID=Europe/Paris:20260422T103000
DTEND;TZID=Europe/Paris:20260422T153000
DTSTAMP:20260421T153600
CREATED:20260224T101241Z
LAST-MODIFIED:20260320T130234Z
UID:227480-1776853800-1776871800@cielo.fr
SUMMARY:Flo - Médiathèque de Saint-Estève (66)
DESCRIPTION:2 représentations : \n⏰ 10h30\n\n\n⏰ 15h30\n\nFlo est une invitation au mouvement\, depuis la naissance de la source qui devient ruisseau puis rivière\, fleuve et enfin océan ! \nL’eau est par nature mouvement et adaptabilité\, tout comme Flo qui au cours de son voyage est portée par l’enthousiasme de la découverte. \nLe chant\, les comptines et les instruments de musique donnent une dimension intime au spectacle. \nDeux représentations : 10h30 et 15h30. \nRéservation des places auprès de la Médiathèque de Saint-Estève au 04 68 92 41 26
URL:https://cielo.fr/event/flo-mediatheque-saint-esteve-66/
LOCATION:Médiathèque Saint-Estève\, Espace Michel Ey\, 4 Rue de la Moselle\, Saint-Estève\, 66240
CATEGORIES:Plusieurs représentations,Spectacle jeune public
ATTACH;FMTTYPE=image/jpeg:https://cielo.fr/wp-content/uploads/2026/02/agenda_flo-1.jpg
END:VEVENT
BEGIN:VEVENT
DTSTART;TZID=Europe/Paris:20260511T094500
DTEND;TZID=Europe/Paris:20260511T094500
DTSTAMP:20260421T153600
CREATED:20260410T121219Z
LAST-MODIFIED:20260410T124113Z
UID:227587-1778492700-1778492700@cielo.fr
SUMMARY:Flo - EAJE Pomme-Cannelle - Bages (66)
DESCRIPTION:Flo est une invitation au mouvement\, depuis la naissance de la source qui devient ruisseau puis rivière\, fleuve et enfin océan ! \nL’eau est par nature mouvement et adaptabilité\, tout comme Flo qui au cours de son voyage est portée par l’enthousiasme de la découverte. \nLe chant\, les comptines et les instruments de musique donnent une dimension intime au spectacle. \nReprésentation réservée aux enfants de l’EAJE Pomme-Cannelle de Bages.
URL:https://cielo.fr/event/flo-eaje-pomme-cannelle-bages-66/
LOCATION:EAJE Pomme – Cannelle – Bages\, Bages\, 66670\, France
CATEGORIES:Représentation réservée,Spectacle jeune public
ATTACH;FMTTYPE=image/jpeg:https://cielo.fr/wp-content/uploads/2026/02/agenda_flo.jpg
END:VEVENT
BEGIN:VEVENT
DTSTART;TZID=Europe/Paris:20260422T150000
DTEND;TZID=Europe/Paris:20260430T150000
DTSTAMP:20260421T153600
CREATED:20260224T100420Z
LAST-MODIFIED:20260224T100449Z
UID:227478-1776870000-1777561200@cielo.fr
SUMMARY:Atelier maquillage d'animaux sauvages - La ferme du Barcarès (66)
DESCRIPTION:Deux dates prévues:  \n\nMercredi 22 avril de 15h à 17h\nJeudi 30 avril de 15h à 17h\n\nDans une ambiance conviviale et chaleureuse\, chaque enfant se métamorphose sous le pinceau de l’artiste. \nQuelques minutes suffisent pour le transformer selon son envie : en animal\, personnage fantastique\, héros\, fleur\, fée\, ou encore papillon… \nIntervention de 1 à 3 maquilleuses\, costumées et maquillées selon le thème que vous choisissez pour votre événement au fil des saisons : en jardinières au Printemps ; en sorcières pour Halloween ; féerique pour les fêtes de Noël…
URL:https://cielo.fr/event/atelier-maquillage-danimaux-sauvages-la-ferme-du-barcares-66/
LOCATION:La ferme du Barcarès
CATEGORIES:Atelier,Plusieurs représentations
ATTACH;FMTTYPE=image/jpeg:https://cielo.fr/wp-content/uploads/2026/02/agenda_maquillage.jpg
END:VEVENT
BEGIN:VEVENT
DTSTART;TZID=Europe/Paris:20260424T143000
DTEND;TZID=Europe/Paris:20260424T170000
DTSTAMP:20260421T153600
CREATED:20260224T094931Z
LAST-MODIFIED:20260224T095713Z
UID:227474-1777041000-1777050000@cielo.fr
SUMMARY:Atelier créatif "Tataki-zomé" - La ferme du Barcarès (66)
DESCRIPTION:La technique japonaise ancestrale du tataki-zomé permet de réaliser une impression végétale sur textile à partir de feuilles et fleurs fraîchement cueillies. Placées au milieu d’un tissu replié\, les plantes seront martelées afin de libérer leurs sucs. Après la cueillette initiale\, nous présentons les vertus de chaque plante utilisée et observons leur composition en eau et pigments. Les créations de tableaux individuels pourront s’assembler en un patchwork coloré.
URL:https://cielo.fr/event/atelier-creatif-tataki-zome-la-ferme-du-barcares-66/
LOCATION:La ferme du Barcarès
CATEGORIES:Atelier
ATTACH;FMTTYPE=image/jpeg:https://cielo.fr/wp-content/uploads/2026/02/agenda_tatakizome.jpg
END:VEVENT
BEGIN:VEVENT
DTSTART;TZID=Europe/Paris:20260428T143000
DTEND;TZID=Europe/Paris:20260428T170000
DTSTAMP:20260421T153600
CREATED:20260224T095508Z
LAST-MODIFIED:20260224T095638Z
UID:227476-1777386600-1777395600@cielo.fr
SUMMARY:Atelier créatif "Animaux fantastiques" - La ferme du Barcarès (66)
DESCRIPTION:Modelage de l’argile \nL’argile est une matière première à la fois malléable et de nature pérenne\, pouvant être utilisée et transformée plusieurs fois. Sa simplicité d’utilisation et sa malléabilité se prêtent à des ajustements en cours de modelage et permettent à chacun de laisser libre cours à sa créativité. \nL’ajout d’éléments naturels (bois\, mousse\, feuilles…) stimule l’imaginaire et renouvèle le regard sur le fruit des cueillettes dans la nature. \nSelon votre événement ou la saison\, l’atelier peut être décliné sur une thématique précise : faune locale\, animaux fantastiques\, village de lutins\, animal totem…).
URL:https://cielo.fr/event/atelier-creatif-animaux-fantastiques-la-ferme-du-barcares-66/
LOCATION:La ferme du Barcarès
CATEGORIES:Atelier
ATTACH;FMTTYPE=image/jpeg:https://cielo.fr/wp-content/uploads/2026/02/agenda_argile.jpg
END:VEVENT
BEGIN:VEVENT
DTSTART;TZID=Europe/Paris:20260430T153000
DTEND;TZID=Europe/Paris:20260430T153000
DTSTAMP:20260421T153600
CREATED:20251222T134424Z
LAST-MODIFIED:20260410T130817Z
UID:227313-1777563000-1777563000@cielo.fr
SUMMARY:Le Grand plongeon - Toulouges (66)
DESCRIPTION:Venez assister à la représentation du spectacle « Le Grand plongeon » au théâtre El Mil.Lenari de Toulouges. \nUn voyage immersif en Méditerranée\, à la découverte d’un écosystème d’une intelligence surprenante ! \nLa création Le Grand plongeon est issue d’échanges avec des scientifiques\, chercheurs ou professionnels de la mer. Dans une approche à la fois poétique et humoristique\, le spectacle apporte des éclairages multiples sur le milieu marin et son écosystème en lien avec l’actualité\, le réchauffement climatique\, la pollution. \nAvec l’aide à la création du Département des Pyrénées-Orientales. \n \n 
URL:https://cielo.fr/event/le-grand-plongeon-toulouges-66/
LOCATION:Théâtre El Mil.Lenari\, Toulouges\, France
CATEGORIES:Spectacle jeune public
ATTACH;FMTTYPE=image/jpeg:https://cielo.fr/wp-content/uploads/2025/12/agenda_LGP.jpg
END:VEVENT
BEGIN:VEVENT
DTSTART;VALUE=DATE:20260501
DTEND;VALUE=DATE:20260601
DTSTAMP:20260421T153600
CREATED:20260224T094012Z
LAST-MODIFIED:20260327T142445Z
UID:227457-1777593600-1780271999@cielo.fr
SUMMARY:Parcours artistique autour de l'eau - EAJE Pomme-Cannelle - Bages (66)
DESCRIPTION:Nous avons à cœur de jeter des passerelles entre les Arts et la Nature. L’eau\, le règne végétal\, les éléments sont à la fois source d’inspiration et matière à développer l’expression de chacun. \n\n\nLe Chant de l’eau\nDe la montagne à la mer Méditerranée\, le parcours d’une goutte d’eau fait l’objet d’un conte initiatique\, accompagné par des instruments constitués d’éléments naturels.\nA leur tour\, les enfants expérimentent tambours à eau\, sifflets à eau\, tambours à tonnerre et bâtons de pluie pour créer une ambiance sonore retraçant le parcours et les formes de l’eau : cascade\, pluie\, mouvement des vagues\, orage…. Nous abordons également la création du « bruitage de l’eau » avec les percussions corporelles ! \n\n\n\n\nL’eau dans tous ses états\nA partir d’un conte sur l’eau\, accompagné par des instruments en éléments naturels\, l’intervenante présente les relations entre notre corps et l’eau. Elle introduit des propositions dansées ludiques qui permettent à chacun de vivre corporellement le mouvement de l’eau : fluidité\, circulation\, mouvement de la vague… Seul\, en duo ou en groupe\, chacun explore les différentes thématiques : rivière mouvante\, goutte d’eau\, banc de poissons\, etc. L’expression dansée peut également s’enrichir de percussions corporelles.
URL:https://cielo.fr/event/parcours-artistique-autour-de-leau-eaje-pomme-cannelle-bages/
LOCATION:EAJE Pomme-Cannelle\, Rue du Boulodrome\, Bages\, 66670\, France
CATEGORIES:Activité réservée,Atelier
ATTACH;FMTTYPE=image/jpeg:https://cielo.fr/wp-content/uploads/2026/02/agenda_at_autour_de_leau.jpg
END:VEVENT
BEGIN:VEVENT
DTSTART;TZID=Europe/Paris:20260502T215000
DTEND;TZID=Europe/Paris:20260502T215000
DTSTAMP:20260421T153600
CREATED:20260327T131238Z
LAST-MODIFIED:20260410T112728Z
UID:227544-1777758600-1777758600@cielo.fr
SUMMARY:Jocs de bruixes - La Clé del Sol - Finestret (66)
DESCRIPTION:Bienvenue à La Clé del Sol\, un tiers-lieu associé à une ferme engagée. Venez nombreux et en famille profiter de marchés\, spectacles et concerts pour petits et grands ! \nCette année\, pour le Festival « Circa del Sol »\, les trois sorcières de « Jocs de bruixes » livrent leurs secrets\, au crépuscule. \nElles se moquent du danger\, tutoient le feu et lisent l’avenir dans les volutes de fumées et les boules de cristal. \nLes effets magiques se révèlent dans un final ensorcelé\, où les artifices viennent achever le rituel fascinant en un éclat flamboyant. \nTarifs de la journée et renseignements sur le site de La Clé del Sol. \n			\n			\n				\n				\n				\n				\n				\n				\n				\n				\n				\n				\n			\n			\n				\n				\n				\n				\n			\n				\n				\n				\n				\n				\n				\n				\n				\n				\n				\n				Ce spectacle de feu vous est proposé dans le cadre de notre projet LEADER « Voix Sauvages ». \n \nAvec l’aide à la création du Département des Pyrénées-Orientales
URL:https://cielo.fr/event/jocs-de-bruixes-finestret-66/
LOCATION:Correc del Botas Finestret\, Finestret\, 66320
CATEGORIES:Spectacle de feu
ATTACH;FMTTYPE=image/jpeg:https://cielo.fr/wp-content/uploads/2026/03/agenda_jdb.jpg
END:VEVENT
BEGIN:VEVENT
DTSTART;TZID=Europe/Paris:20260507T110000
DTEND;TZID=Europe/Paris:20260507T110000
DTSTAMP:20260421T153600
CREATED:20260327T142026Z
LAST-MODIFIED:20260327T142551Z
UID:227555-1778151600-1778151600@cielo.fr
SUMMARY:Le Grand plongeon - Ecole de Los Masos (66)
DESCRIPTION:Dans la continuité de ses enseignements\, sur le thème de l’eau\, l’école de Los Masos offre aux enfants le spectacle « Le Grand plongeon ». \nUn voyage immersif en Méditerranée\, à la découverte d’un écosystème d’une intelligence surprenante ! \nLa création Le Grand plongeon est issue d’échanges avec des scientifiques\, chercheurs ou professionnels de la mer. Dans une approche à la fois poétique et humoristique\, le spectacle apporte des éclairages multiples sur le milieu marin et son écosystème en lien avec l’actualité\, le réchauffement climatique\, la pollution. \nCe spectacle est proposé dans le cadre de notre projet LEADER « Voix sauvages\, sur les traces de femmes artistes\, au coeur du vivant ». \n \nAvec l’aide à la création du Département des Pyrénées-Orientales. \n \n 
URL:https://cielo.fr/event/le-grand-plongeon-ecole-los-masos-66/
LOCATION:Ecole Los Masos\, Los Masos\, 66500\, France
CATEGORIES:Représentation scolaire,Spectacle jeune public
ATTACH;FMTTYPE=image/jpeg:https://cielo.fr/wp-content/uploads/2026/03/agenda_LGP2.jpg
END:VEVENT
BEGIN:VEVENT
DTSTART;VALUE=DATE:20260509
DTEND;VALUE=DATE:20260510
DTSTAMP:20260421T153600
CREATED:20260224T102311Z
LAST-MODIFIED:20260320T125248Z
UID:227485-1778284800-1778371199@cielo.fr
SUMMARY:Llum - Collectif LaClé - Villefranche-de-Conflent (66)
DESCRIPTION:Rendez-vous le samedi 9 mai 2026 pour la représentation du spectacle « Llum ». \nPorté par un trio de femmes en voix mêlées\, en corps dansants\, Llum vous invite à plonger votre regard dans celui de l’ours sauvage\, à deviner le nom des nuages pour les faire pleuvoir… L’ombre et la lumière se déploient\, plongeant le spectateur dans un cheminement poétique et sonore. \nCe conte en ombre et lumière\, permettra de mettre du lien entre chacun et initiera une réflexion sur le rôle de parents dans notre société actuelle. Le spectacle se déroulerait en fin de matinée. \nCe spectacle est proposé dans le cadre de notre projet LEADER « Voix sauvages\, sur les traces de femmes artistes\, au coeur du vivant ». \n \n 
URL:https://cielo.fr/event/llum-villefranche-de-conflent-66/
LOCATION:Salle des Fêtes Villefranche-de-Conflent\, Villefranche-de-Conflent\, 66820\, France
CATEGORIES:Spectacle jeune public
ATTACH;FMTTYPE=image/jpeg:https://cielo.fr/wp-content/uploads/2026/02/agenda_llum.jpg
END:VEVENT
BEGIN:VEVENT
DTSTART;TZID=Europe/Paris:20260516T213000
DTEND;TZID=Europe/Paris:20260516T213000
DTSTAMP:20260421T153600
CREATED:20260224T103252Z
LAST-MODIFIED:20260224T103456Z
UID:227487-1778967000-1778967000@cielo.fr
SUMMARY:Le Bal des lampions - Corso de Cavaillon (84)
DESCRIPTION:Une représentation : 🕟 21h30 \nLaissez-vous entraîner par la magie de cette parade chaleureuse ! \nÀ la nuit tombée\, suivez une petite lumière et observez les visages illuminés par les lueurs des lampions voyageurs.\nIls diffusent une douce chaleur et vous invitent à entrer dans le bal des lanternes. \nAu cœur du tourbillon festif\, des personnages étincelants et hauts en couleur réchauffent les cœurs.\nRejoignez-les et laissez-vous porter par leurs danses !
URL:https://cielo.fr/event/le-bal-des-lampions-corso-de-cavaillon-84/
LOCATION:Cavaillon\, France
CATEGORIES:Spectacle d'échassiers
ATTACH;FMTTYPE=image/jpeg:https://cielo.fr/wp-content/uploads/2026/02/agenda_lamp.jpg
END:VEVENT
BEGIN:VEVENT
DTSTART;VALUE=DATE:20260524
DTEND;VALUE=DATE:20260525
DTSTAMP:20260421T153600
CREATED:20251222T135314Z
LAST-MODIFIED:20251222T135527Z
UID:227316-1779580800-1779667199@cielo.fr
SUMMARY:Yule - Saint-Geniès-de-Fontedit (34)
DESCRIPTION:A l’occasion de « La Foire des Grenouilles »\, le petit peuple de la nature (grandes elfes\, dame Nature\, faune…) vient à votre rencontre. \nGardiennes de nos rêves et de nos flammes de vie\, ces créatures sortent de leur écrin sauvage. Elles révèlent leurs aptitudes extraordinaires au service de l’harmonie entre les mondes. Avec elles\, c’est la forêt qui se déplace… \nAlors laissez-vous emporter  par l’énergie qu’ils propagent… ils dessineront des sourires sur vos visages\, des mains tendues\, des cœurs ouverts !
URL:https://cielo.fr/event/yule-saint-genies-de-fontedit-34/
LOCATION:La Foire des Grenouilles\, Saint-Geniès-de-Fontedit\, France
CATEGORIES:Spectacle d'échassiers
ATTACH;FMTTYPE=image/jpeg:https://cielo.fr/wp-content/uploads/2025/12/agenda_yule.jpg
END:VEVENT
BEGIN:VEVENT
DTSTART;VALUE=DATE:20260612
DTEND;VALUE=DATE:20260613
DTSTAMP:20260421T153600
CREATED:20260410T130210Z
LAST-MODIFIED:20260410T130210Z
UID:227593-1781222400-1781308799@cielo.fr
SUMMARY:Le Grand plongeon - Festiv'Eco - Font-Romeu (66)
DESCRIPTION:2 représentations :\n⏰ à confirmer\n\n\n⏰ à confirmer\n\nVenez assister aux représentations du spectacle « Le Grand plongeon » au pied des pistes\, à Font-Romeu\, pour la 5e édition de Festiv’Eco. \nUn voyage immersif en Méditerranée\, à la découverte d’un écosystème d’une intelligence surprenante ! \nLa création Le Grand plongeon est issue d’échanges avec des scientifiques\, chercheurs ou professionnels de la mer. Dans une approche à la fois poétique et humoristique\, le spectacle apporte des éclairages multiples sur le milieu marin et son écosystème en lien avec l’actualité\, le réchauffement climatique\, la pollution. \nAvec l’aide à la création du Département des Pyrénées-Orientales. \n \nCe spectacle est proposé dans le cadre de notre projet LEADER « Voix sauvages\, sur les traces de femmes artistes\, au cœur du vivant ». \n \n 
URL:https://cielo.fr/event/le-grand-plongeon-font-romeu/
LOCATION:Communauté de communes Pyrénées Catalanes\, 66210\, France
CATEGORIES:Spectacle jeune public
ATTACH;FMTTYPE=image/jpeg:https://cielo.fr/wp-content/uploads/2026/04/agenda_LGP3.jpg
END:VEVENT
BEGIN:VEVENT
DTSTART;VALUE=DATE:20260627
DTEND;VALUE=DATE:20260628
DTSTAMP:20260421T153600
CREATED:20260410T144140Z
LAST-MODIFIED:20260410T144140Z
UID:227604-1782518400-1782604799@cielo.fr
SUMMARY:Yule - Fête du Livre Vivant - Parc Palauda - Thuir (66)
DESCRIPTION:A l’occasion de « La Fête du Livre Vivant »\, organisé par le Conseil Départemental\, le petit peuple de la nature (grandes elfes\, dame Nature\, faune…) vient à votre rencontre. \nGardiennes de nos rêves et de nos flammes de vie\, ces créatures sortent de leur écrin sauvage. Elles révèlent leurs aptitudes extraordinaires au service de l’harmonie entre les mondes. Avec elles\, c’est la forêt qui se déplace… \nN’oubliez pas non plus de regarder les arbres majestueux du Parc Palauda. Des êtres féériques y évoluent tout en chorégraphies aériennes et danse-voltige… \nAlors laissez-vous emporter par l’énergie qu’ils propagent… ils dessineront des sourires sur vos visages\, des mains tendues\, des cœurs ouverts ! \n  \n\n\nCe spectacle est soutenu par:
URL:https://cielo.fr/event/yule-fete-du-livre-vivant-parc-palauda-thuir-66/
LOCATION:Parc Palauda\, Thuir\, France
CATEGORIES:Spectacle d'échassiers
ATTACH;FMTTYPE=image/jpeg:https://cielo.fr/wp-content/uploads/2026/04/agenda_yule4-1.jpg
END:VEVENT
END:VCALENDAR